BEGIN:VCALENDAR
VERSION:2.0
PRODID:-//AFNR - ECPv5.4.0.2//NONSGML v1.0//EN
CALSCALE:GREGORIAN
METHOD:PUBLISH
X-WR-CALNAME:AFNR
X-ORIGINAL-URL:https://fanurioja.org
X-WR-CALDESC:Eventos para AFNR
BEGIN:VTIMEZONE
TZID:Europe/Helsinki
BEGIN:DAYLIGHT
TZOFFSETFROM:+0200
TZOFFSETTO:+0300
TZNAME:EEST
DTSTART:20190331T010000
END:DAYLIGHT
BEGIN:STANDARD
TZOFFSETFROM:+0300
TZOFFSETTO:+0200
TZNAME:EET
DTSTART:20191027T010000
END:STANDARD
END:VTIMEZONE
BEGIN:VEVENT
DTSTART;VALUE=DATE:20190625
DTEND;VALUE=DATE:20191113
DTSTAMP:20260424T181542
CREATED:20190514T101903Z
LAST-MODIFIED:20190710T075706Z
UID:12886-1561420800-1573603199@fanurioja.org
SUMMARY:APROVECHA NUESTRO SERVICIO DE CANGUROS
DESCRIPTION:Ya podéis contratar el servicio en canguros en el espacio habilitado para ello en esta misma web (canguros.fanurioja.org) \nSocios\, las tres primeras horas gratis. Para disfrutar de esta oferta\, llamar al 941 03 52 62 en horario de oficina. \nResto de servicios\, desde 5 € la hora (7 en horario nocturno). \nPersonal formado\, doblemente testado\, para cubrir horas de atención a tu hijo. Condiciones aquí 
URL:https://fanurioja.org/evento/lanzamiento-del-servicio-de-canguros/
CATEGORIES:Eventos
ATTACH;FMTTYPE=image/jpeg:https://fanurioja.org/wp-content/uploads/2019/05/CANGUROS-1.jpg
END:VEVENT
BEGIN:VEVENT
DTSTART;TZID=Europe/Helsinki:20190708T210000
DTEND;TZID=Europe/Helsinki:20190708T220000
DTSTAMP:20260424T181542
CREATED:20190617T093935Z
LAST-MODIFIED:20190709T123101Z
UID:13100-1562619600-1562623200@fanurioja.org
SUMMARY:JUNTA DIRECTIVA AFNR
DESCRIPTION:Nos reunimos mensualmente para revisar la marcha de AFNR: atención a nuestras familias asociadas\, desarrollo de los proyectos que desarrollamos\, relaciones institucionales con empresas y administración pública\, nuevos retos. \nSi eres socio\, no dudes en mandarnos sugerencias\, propuestas o avisos aquí  \nNUESTRA HORA DE CONCILIACIÓN tiene lugar cuando los hijos y nuestro esposo o pareja están en casa.
URL:https://fanurioja.org/evento/junta-directiva-afnr/
LOCATION:Sede AFNR\, Avda. Pío XII\, 10\, Bajo 4 (entrada por hangar de autobuses)\, Logroño\, La Rioja\, 26003\, España
CATEGORIES:Eventos
ATTACH;FMTTYPE=image/jpeg:https://fanurioja.org/wp-content/uploads/2019/06/Junta-directiva-AFNR-1.jpg
END:VEVENT
END:VCALENDAR